BEGIN:VCALENDAR
VERSION:2.0
PRODID:-//wp-events-plugin.com//6.6.3//EN
TZID:Europe/Vienna
X-WR-TIMEZONE:Europe/Vienna
BEGIN:VEVENT
UID:15@winzerhof-leonhartsberger.at
DTSTART;TZID=Europe/Vienna:20240229T160000
DTEND;TZID=Europe/Vienna:20240303T230000
DTSTAMP:20230927T124012Z
URL:https://www.winzerhof-leonhartsberger.at/veranstaltungen/ausgsteckt-is
 -7/
SUMMARY:Ausg'steckt is
DESCRIPTION:
END:VEVENT
BEGIN:VTIMEZONE
TZID:Europe/Vienna
X-LIC-LOCATION:Europe/Vienna
BEGIN:STANDARD
DTSTART:20231029T020000
TZOFFSETFROM:+0200
TZOFFSETTO:+0100
TZNAME:CET
END:STANDARD
END:VTIMEZONE
END:VCALENDAR